BEGIN:VCALENDAR
VERSION:2.0
PRODID:-//ChamberMaster//Event Calendar 2.0//EN
METHOD:PUBLISH
X-PUBLISHED-TTL:P3D
REFRESH-INTERVAL:P3D
CALSCALE:GREGORIAN
BEGIN:VEVENT
DTSTART;VALUE=DATE:20090409
DTEND;VALUE=DATE:20090410
TRANSP:TRANSPARENT
X-MICROSOFT-CDO-ALLDAYEVENT:TRUE
SUMMARY:April '09 Dinner Meeting
DESCRIPTION:
X-ALT-DESC;FMTTYPE=text/html:
LOCATION:LaVenezia
UID:e.9117.5
SEQUENCE:3
DTSTAMP:20260422T215758Z
URL:http://cccia.memberzone.com/events/details/april-09-dinner-meeting-04-09-2009-5
END:VEVENT

END:VCALENDAR
