BEGIN:VCALENDAR
VERSION:2.0
PRODID:-//ChamberMaster//Event Calendar 2.0//EN
METHOD:PUBLISH
X-PUBLISHED-TTL:P3D
REFRESH-INTERVAL:P3D
CALSCALE:GREGORIAN
BEGIN:VEVENT
DTSTART;VALUE=DATE:20090423
DTEND;VALUE=DATE:20090424
TRANSP:TRANSPARENT
X-MICROSOFT-CDO-ALLDAYEVENT:TRUE
SUMMARY:April '09 Pearl Mixer
DESCRIPTION:
X-ALT-DESC;FMTTYPE=text/html:
LOCATION:Pearl Lounge
UID:e.9117.10
SEQUENCE:3
DTSTAMP:20260422T220752Z
URL:http://cccia.memberzone.com/events/details/april-09-pearl-mixer-04-23-2009-10
END:VEVENT

END:VCALENDAR
