BEGIN:VCALENDAR
VERSION:2.0
PRODID:-//ChamberMaster//Event Calendar 2.0//EN
METHOD:PUBLISH
X-PUBLISHED-TTL:P3D
REFRESH-INTERVAL:P3D
CALSCALE:GREGORIAN
BEGIN:VEVENT
DTSTART;VALUE=DATE:20080814
DTEND;VALUE=DATE:20080815
TRANSP:TRANSPARENT
X-MICROSOFT-CDO-ALLDAYEVENT:TRUE
SUMMARY:August '08 BIA/CCCIA Mixer
DESCRIPTION:
X-ALT-DESC;FMTTYPE=text/html:
LOCATION:Crowne Plaza
UID:e.9117.20
SEQUENCE:3
DTSTAMP:20260423T151731Z
URL:http://cccia.memberzone.com/events/details/august-08-bia-cccia-mixer-08-14-2008-20
END:VEVENT

END:VCALENDAR
