BEGIN:VCALENDAR
VERSION:2.0
PRODID:-//ChamberMaster//Event Calendar 2.0//EN
METHOD:PUBLISH
X-PUBLISHED-TTL:P3D
REFRESH-INTERVAL:P3D
CALSCALE:GREGORIAN
BEGIN:VEVENT
DTSTART;VALUE=DATE:20100812
DTEND;VALUE=DATE:20100813
TRANSP:TRANSPARENT
X-MICROSOFT-CDO-ALLDAYEVENT:TRUE
SUMMARY:August 2010 Dinner Meeting
DESCRIPTION:
X-ALT-DESC;FMTTYPE=text/html:
LOCATION:La Venezia
UID:e.9117.11
SEQUENCE:3
DTSTAMP:20260421T102552Z
URL:http://cccia.memberzone.com/events/details/august-2010-dinner-meeting-08-12-2010-11
END:VEVENT

END:VCALENDAR
