BEGIN:VCALENDAR
VERSION:2.0
PRODID:-//ChamberMaster//Event Calendar 2.0//EN
METHOD:PUBLISH
X-PUBLISHED-TTL:P3D
REFRESH-INTERVAL:P3D
CALSCALE:GREGORIAN
BEGIN:VEVENT
DTSTART;VALUE=DATE:20110310
DTEND;VALUE=DATE:20110311
TRANSP:TRANSPARENT
X-MICROSOFT-CDO-ALLDAYEVENT:TRUE
SUMMARY:CCCIA Builders' Showcase 2011
DESCRIPTION:
X-ALT-DESC;FMTTYPE=text/html:
LOCATION:Cape Coral...It's where you want to be.
UID:e.9117.23
SEQUENCE:3
DTSTAMP:20260420T171613Z
URL:http://cccia.memberzone.com/events/details/cccia-builders-showcase-2011-03-10-2011-23
END:VEVENT

END:VCALENDAR
