BEGIN:VCALENDAR
VERSION:2.0
PRODID:-//ChamberMaster//Event Calendar 2.0//EN
METHOD:PUBLISH
X-PUBLISHED-TTL:P3D
REFRESH-INTERVAL:P3D
CALSCALE:GREGORIAN
BEGIN:VEVENT
DTSTART;VALUE=DATE:20080327
DTEND;VALUE=DATE:20080328
TRANSP:TRANSPARENT
X-MICROSOFT-CDO-ALLDAYEVENT:TRUE
SUMMARY:CEU March '08
DESCRIPTION:
X-ALT-DESC;FMTTYPE=text/html:
LOCATION:Cape Coral Assoc. of Realtors
UID:e.9117.30
SEQUENCE:3
DTSTAMP:20260424T021359Z
URL:http://cccia.memberzone.com/events/details/ceu-march-08-03-27-2008-30
END:VEVENT

END:VCALENDAR
