BEGIN:VCALENDAR
VERSION:2.0
PRODID:-//ChamberMaster//Event Calendar 2.0//EN
METHOD:PUBLISH
X-PUBLISHED-TTL:P3D
REFRESH-INTERVAL:P3D
CALSCALE:GREGORIAN
BEGIN:VEVENT
DTSTART;VALUE=DATE:20100526
DTEND;VALUE=DATE:20100527
TRANSP:TRANSPARENT
X-MICROSOFT-CDO-ALLDAYEVENT:TRUE
SUMMARY:Green Council Lunch May 2010
DESCRIPTION:
X-ALT-DESC;FMTTYPE=text/html:
LOCATION:ACRA Electric Meeting Room
UID:e.9117.54
SEQUENCE:3
DTSTAMP:20260421T172704Z
URL:http://cccia.memberzone.com/events/details/green-council-lunch-may-2010-05-26-2010-54
END:VEVENT

END:VCALENDAR
