BEGIN:VCALENDAR
VERSION:2.0
PRODID:-//ChamberMaster//Event Calendar 2.0//EN
METHOD:PUBLISH
X-PUBLISHED-TTL:P3D
REFRESH-INTERVAL:P3D
CALSCALE:GREGORIAN
BEGIN:VEVENT
DTSTART;VALUE=DATE:20110126
DTEND;VALUE=DATE:20110127
TRANSP:TRANSPARENT
X-MICROSOFT-CDO-ALLDAYEVENT:TRUE
SUMMARY:Green Luncheon January 2011
DESCRIPTION:
X-ALT-DESC;FMTTYPE=text/html:
LOCATION:ACRA Electric Meeting Rm
UID:e.9117.52
SEQUENCE:3
DTSTAMP:20260420T223445Z
URL:http://cccia.memberzone.com/events/details/green-luncheon-january-2011-01-26-2011-52
END:VEVENT

END:VCALENDAR
