BEGIN:VCALENDAR
VERSION:2.0
PRODID:-//ChamberMaster//Event Calendar 2.0//EN
METHOD:PUBLISH
X-PUBLISHED-TTL:P3D
REFRESH-INTERVAL:P3D
CALSCALE:GREGORIAN
BEGIN:VEVENT
DTSTART;VALUE=DATE:20110113
DTEND;VALUE=DATE:20110114
TRANSP:TRANSPARENT
X-MICROSOFT-CDO-ALLDAYEVENT:TRUE
SUMMARY:January 2011 Dinner Meeting
DESCRIPTION:
X-ALT-DESC;FMTTYPE=text/html:
LOCATION:The Resort at Marina in Tarpon Point
UID:e.9117.67
SEQUENCE:3
DTSTAMP:20260420T222555Z
URL:http://cccia.memberzone.com/events/details/january-2011-dinner-meeting-01-13-2011-67
END:VEVENT

END:VCALENDAR
