BEGIN:VCALENDAR
VERSION:2.0
PRODID:-//ChamberMaster//Event Calendar 2.0//EN
METHOD:PUBLISH
X-PUBLISHED-TTL:P3D
REFRESH-INTERVAL:P3D
CALSCALE:GREGORIAN
BEGIN:VEVENT
DTSTART;VALUE=DATE:20100922
DTEND;VALUE=DATE:20100923
TRANSP:TRANSPARENT
X-MICROSOFT-CDO-ALLDAYEVENT:TRUE
SUMMARY:Lead Safety Cert.Seminar
DESCRIPTION:
X-ALT-DESC;FMTTYPE=text/html:
LOCATION:Hampton Inn Suites
UID:e.9117.86
SEQUENCE:3
DTSTAMP:20260421T071716Z
URL:http://cccia.memberzone.com/events/details/lead-safety-cert-seminar-09-22-2010-86
END:VEVENT

END:VCALENDAR
