BEGIN:VCALENDAR
VERSION:2.0
PRODID:-//ChamberMaster//Event Calendar 2.0//EN
METHOD:PUBLISH
X-PUBLISHED-TTL:P3D
REFRESH-INTERVAL:P3D
CALSCALE:GREGORIAN
BEGIN:VEVENT
DTSTART;VALUE=DATE:20090514
DTEND;VALUE=DATE:20090515
TRANSP:TRANSPARENT
X-MICROSOFT-CDO-ALLDAYEVENT:TRUE
SUMMARY:May '09 Dinner Meeting
DESCRIPTION:
X-ALT-DESC;FMTTYPE=text/html:
LOCATION:LaVenezia
UID:e.9117.96
SEQUENCE:3
DTSTAMP:20260422T201500Z
URL:http://cccia.memberzone.com/events/details/may-09-dinner-meeting-05-14-2009-96
END:VEVENT

END:VCALENDAR
