BEGIN:VCALENDAR
VERSION:2.0
PRODID:-//ChamberMaster//Event Calendar 2.0//EN
METHOD:PUBLISH
X-PUBLISHED-TTL:P3D
REFRESH-INTERVAL:P3D
CALSCALE:GREGORIAN
BEGIN:VEVENT
DTSTART;VALUE=DATE:20071011
DTEND;VALUE=DATE:20071012
TRANSP:TRANSPARENT
X-MICROSOFT-CDO-ALLDAYEVENT:TRUE
SUMMARY:Permitting Pearls and Perils
DESCRIPTION:
X-ALT-DESC;FMTTYPE=text/html:
LOCATION:La Venezia
UID:e.9117.117
SEQUENCE:3
DTSTAMP:20260424T122453Z
URL:http://cccia.memberzone.com/events/details/permitting-pearls-and-perils-10-11-2007-117
END:VEVENT

END:VCALENDAR
