BEGIN:VCALENDAR
VERSION:2.0
PRODID:-//ChamberMaster//Event Calendar 2.0//EN
METHOD:PUBLISH
X-PUBLISHED-TTL:P3D
REFRESH-INTERVAL:P3D
CALSCALE:GREGORIAN
BEGIN:VEVENT
DTSTART;VALUE=DATE:20080711
DTEND;VALUE=DATE:20080712
TRANSP:TRANSPARENT
X-MICROSOFT-CDO-ALLDAYEVENT:TRUE
SUMMARY:Poker Tournament July '08
DESCRIPTION:
X-ALT-DESC;FMTTYPE=text/html:
LOCATION:La Venezia
UID:e.9117.131
SEQUENCE:3
DTSTAMP:20260423T201348Z
URL:http://cccia.memberzone.com/events/details/poker-tournament-july-08-07-11-2008-131
END:VEVENT

END:VCALENDAR
