BEGIN:VCALENDAR
VERSION:2.0
PRODID:-//ChamberMaster//Event Calendar 2.0//EN
METHOD:PUBLISH
X-PUBLISHED-TTL:P3D
REFRESH-INTERVAL:P3D
CALSCALE:GREGORIAN
BEGIN:VEVENT
DTSTART;VALUE=DATE:20080911
DTEND;VALUE=DATE:20080912
TRANSP:TRANSPARENT
X-MICROSOFT-CDO-ALLDAYEVENT:TRUE
SUMMARY:September '08 Dinner Meeting
DESCRIPTION:
X-ALT-DESC;FMTTYPE=text/html:
LOCATION:La Venezia
UID:e.9117.136
SEQUENCE:3
DTSTAMP:20260423T151536Z
URL:http://cccia.memberzone.com/events/details/september-08-dinner-meeting-09-11-2008-136
END:VEVENT

END:VCALENDAR
